BEGIN:VCALENDAR
VERSION:2.0
PRODID:-//www.chandleredfoundation.org//NONSGML kigkonsult.se iCalcreator 2
 .30.10//
CALSCALE:GREGORIAN
METHOD:PUBLISH
UID:637f79cd-dd94-4787-b6a5-cd860d2b42e3
X-WR-CALDESC:
X-WR-RELCALID:cbeb99de513d6d67cd9100dd9a1ab962
X-WR-TIMEZONE:America/Phoenix
BEGIN:VTIMEZONE
TZID:America/Phoenix
BEGIN:STANDARD
TZNAME:MST
DTSTART:20181222T070000
TZOFFSETFROM:+0000
TZOFFSETTO:-0700
END:STANDARD
END:VTIMEZONE
BEGIN:VEVENT
UID:4cbb2146-c6b5-433f-9416-c6ec8d278af6
DTSTAMP:20260420T135110Z
DESCRIPTION:
DTSTART;TZID=America/Phoenix:20200922T113000
DTEND;TZID=America/Phoenix:20200922T130000
LOCATION:Recital Hall - Chandler Center for the Arts
SUMMARY:Board Meeting
END:VEVENT
END:VCALENDAR
