BEGIN:VCALENDAR
VERSION:2.0
PRODID:-//www.chandleredfoundation.org//NONSGML kigkonsult.se iCalcreator 2
 .30.10//
CALSCALE:GREGORIAN
METHOD:PUBLISH
UID:c1857382-e7aa-48e2-a88f-818b27aa7aa5
X-WR-CALDESC:Join us at the 22nd annual Chandler Education Foundation Golf 
 Tournament and Fundraiser at the Whirlwind Golf Club at Wild Horse Pass.
X-WR-RELCALID:bda10a8ce0b8e373abce0eca7bc051f6
X-WR-TIMEZONE:America/Phoenix
BEGIN:VTIMEZONE
TZID:America/Phoenix
BEGIN:STANDARD
TZNAME:MST
DTSTART:20211207T070000
TZOFFSETFROM:+0000
TZOFFSETTO:-0700
END:STANDARD
END:VTIMEZONE
BEGIN:VEVENT
UID:f2ced397-352b-40d5-abb1-8dcd4ce44335
DTSTAMP:20260422T043826Z
DESCRIPTION:Join us at the 22nd annual Chandler Education Foundation Golf T
 ournament and Fundraiser at the Whirlwind Golf Club at Wild Horse Pass.
DTSTART;TZID=America/Phoenix:20230908T073000
DTEND;TZID=America/Phoenix:20230908T140000
LOCATION:5692 W North Loop Rd\, Chandler\, AZ 85226 US
SUMMARY:22nd Annual Chandler Education Foundation Golf Tournament & Fundrai
 ser
END:VEVENT
END:VCALENDAR
