BEGIN:VCALENDAR
VERSION:2.0
PRODID:-//www.chandleredfoundation.org//NONSGML kigkonsult.se iCalcreator 2
 .30.10//
CALSCALE:GREGORIAN
METHOD:PUBLISH
UID:24a265e9-dcec-40b3-af72-926c24d5b4b4
X-WR-CALDESC:Chandler Unified Seniors! Don't miss out on thousands in schol
 arships! Visit our Scholarships page for information on how to submit your
  application and access to the scholarship platform.
X-WR-RELCALID:07e9ed3fa1d4fc3663bcc181989bf2c3
X-WR-TIMEZONE:America/Phoenix
BEGIN:VTIMEZONE
TZID:America/Phoenix
BEGIN:STANDARD
TZNAME:MST
DTSTART:20220305T070000
TZOFFSETFROM:+0000
TZOFFSETTO:-0700
END:STANDARD
END:VTIMEZONE
BEGIN:VEVENT
UID:8babdcbd-ca11-47e2-92ba-3faeb22fee76
DTSTAMP:20260421T230045Z
DESCRIPTION:Chandler Unified Seniors! Don't miss out on thousands in schola
 rships! Visit our Scholarships page for information on how to submit your 
 application and access to the scholarship platform.
DTSTART;TZID=America/Phoenix:20231205T040000
DTEND;TZID=America/Phoenix:20231205T040001
LOCATION:
SUMMARY:Student Scholarship Application Open
END:VEVENT
END:VCALENDAR
