BEGIN:VCALENDAR
VERSION:2.0
PRODID:-//www.chandleredfoundation.org//NONSGML kigkonsult.se iCalcreator 2
 .30.10//
CALSCALE:GREGORIAN
METHOD:PUBLISH
UID:efddf6f8-1222-4be4-b5ba-c8a327023b10
X-WR-CALDESC:The Chandler Education Foundation office will be closed for th
 e holidays in alignment with the Chandler Unified School District beginnin
 g December 22\, 2023 through January 8\, 2024. \n\nShould you have any que
 stions\, please contact us via the link below and we look forward to conne
 cting with you when we return. \n\nWe wish you and yours a safe\, happy\, 
 and restful holiday season.
X-WR-RELCALID:11de0c4c1b631b209ac43b9c17b4c4c5
X-WR-TIMEZONE:America/Phoenix
BEGIN:VTIMEZONE
TZID:America/Phoenix
BEGIN:STANDARD
TZNAME:MST
DTSTART:20220325T070000
TZOFFSETFROM:+0000
TZOFFSETTO:-0700
END:STANDARD
END:VTIMEZONE
BEGIN:VEVENT
UID:673eb0e2-5133-410a-9830-61e30e1ff7c2
DTSTAMP:20260421T210235Z
DESCRIPTION:The Chandler Education Foundation office will be closed for the
  holidays in alignment with the Chandler Unified School District beginning
  December 22\, 2023 through January 8\, 2024. \n\nShould you have any ques
 tions\, please contact us via the link below and we look forward to connec
 ting with you when we return. \n\nWe wish you and yours a safe\, happy\, a
 nd restful holiday season.
DTSTART;TZID=America/Phoenix:20231225T040000
DTEND;TZID=America/Phoenix:20240105T040001
LOCATION:1851 East Queen Creek Road\, Gilbert\, AZ 85297 US
SUMMARY:CEF Office Closed
END:VEVENT
END:VCALENDAR
