BEGIN:VCALENDAR
VERSION:2.0
PRODID:-//www.chandleredfoundation.org//NONSGML kigkonsult.se iCalcreator 2
 .30.10//
CALSCALE:GREGORIAN
METHOD:PUBLISH
UID:74106630-006c-41a7-8762-8973afa9ae58
X-WR-CALDESC:Don't miss your chance to get a great new vehicle\, while supp
 orting CUSD teachers! \n\nDuring Subaru's Share the Love Campaign\, with e
 very new vehicle purchased\, the Subaru Superstore of Chandler will donate
  up to $500 to the Chandler Education Foundation. These funds support our 
 Lifelong Learning Scholarships for CUSD teachers to receive additional tra
 ining and certifications. \n\nThe event ends on January 2\, 2024.
X-WR-RELCALID:fd1b563b95c921beb4e9349cd91d377e
X-WR-TIMEZONE:America/Phoenix
BEGIN:VTIMEZONE
TZID:America/Phoenix
BEGIN:STANDARD
TZNAME:MST
DTSTART:20220402T070000
TZOFFSETFROM:+0000
TZOFFSETTO:-0700
END:STANDARD
END:VTIMEZONE
BEGIN:VEVENT
UID:76510b00-2d0a-461f-b9cf-ac407f2c8bec
DTSTAMP:20260421T210443Z
DESCRIPTION:Don't miss your chance to get a great new vehicle\, while suppo
 rting CUSD teachers! \n\nDuring Subaru's Share the Love Campaign\, with ev
 ery new vehicle purchased\, the Subaru Superstore of Chandler will donate 
 up to $500 to the Chandler Education Foundation. These funds support our L
 ifelong Learning Scholarships for CUSD teachers to receive additional trai
 ning and certifications. \n\nThe event ends on January 2\, 2024.
DTSTART;TZID=America/Phoenix:20240102T040000
DTEND;TZID=America/Phoenix:20240102T040001
LOCATION:1050 S Gilbert Road\, Chandler\, AZ 85286 US
SUMMARY:Subaru Share The Love Ends
END:VEVENT
END:VCALENDAR
