BEGIN:VCALENDAR
VERSION:2.0
PRODID:-//www.chandleredfoundation.org//NONSGML kigkonsult.se iCalcreator 2
 .30.10//
CALSCALE:GREGORIAN
METHOD:PUBLISH
UID:997c2062-be52-49d7-b3b1-fb98eb7ebbf0
X-WR-CALDESC:Get ready to start your engines with a $20 ticket that puts yo
 u in the driver's seat to win big – it's your call! Picture yourself cruis
 ing in a brand-new car or pocketing $20\,000 in cash. The choice is yours!
 \n\nAs the grand prize winner\, you get to decide between a cool $20\,000 
 in cash or a whopping $27\,000 off the Manufacturer's Suggested Retail Pri
 ce (MSRP) on any Toyota vehicle! But that's not all – seize the chance to 
 snag multiple Early Bird prizes (drawn on February 8\, 2024).\n\nIt's not 
 just about winning\; it's about making a difference. Your ticket purchase 
 fuels resources in Chandler Unified Schools\, and provides vital scholarsh
 ips to bright\, aspiring students throughout the district. \n\nQuestions o
 r concerns? Please email us info@chandleredfoundation.org.
X-WR-RELCALID:3553e767befce14fc170fc972041963a
X-WR-TIMEZONE:America/Phoenix
BEGIN:VTIMEZONE
TZID:America/Phoenix
BEGIN:STANDARD
TZNAME:MST
DTSTART:20220409T070000
TZOFFSETFROM:+0000
TZOFFSETTO:-0700
END:STANDARD
END:VTIMEZONE
BEGIN:VEVENT
UID:cb50f534-9bb1-48f5-b406-a899b3bc6b41
DTSTAMP:20260421T210752Z
DESCRIPTION:Get ready to start your engines with a $20 ticket that puts you
  in the driver's seat to win big – it's your call! Picture yourself cruisi
 ng in a brand-new car or pocketing $20\,000 in cash. The choice is yours!
 \n\nAs the grand prize winner\, you get to decide between a cool $20\,000 
 in cash or a whopping $27\,000 off the Manufacturer's Suggested Retail Pri
 ce (MSRP) on any Toyota vehicle! But that's not all – seize the chance to 
 snag multiple Early Bird prizes (drawn on February 8\, 2024).\n\nIt's not 
 just about winning\; it's about making a difference. Your ticket purchase 
 fuels resources in Chandler Unified Schools\, and provides vital scholarsh
 ips to bright\, aspiring students throughout the district. \n\nQuestions o
 r concerns? Please email us info@chandleredfoundation.org.
DTSTART;TZID=America/Phoenix:20240109T040000
DTEND;TZID=America/Phoenix:20240109T040001
LOCATION:
SUMMARY:Winner's Choice Car Or Cash Raffle Kick Off
END:VEVENT
END:VCALENDAR
