BEGIN:VCALENDAR
VERSION:2.0
PRODID:-//www.chandleredfoundation.org//NONSGML kigkonsult.se iCalcreator 2
 .30.10//
CALSCALE:GREGORIAN
METHOD:PUBLISH
UID:3356e92d-1824-464d-bbab-59a698e69f6b
X-WR-CALDESC:Get ready to start your engines with a $20 ticket that puts yo
 u in the driver's seat to win big – it's your call! Picture yourself cruis
 ing in a brand-new car or pocketing $20\,000 in cash. The choice is yours!
 \n\nAs the grand prize winner\, you get to decide between a cool $20\,000 
 in cash or a whopping $27\,000 off the Manufacturer's Suggested Retail Pri
 ce (MSRP) on any Toyota vehicle! But that's not all – seize the chance to 
 snag multiple Early Bird prizes. Winners of the Early Bird prizes are also
  eligible to win the grand prize. \n\nIt's not just about winning\; it's a
 bout making a difference. Your ticket purchase fuels resources in Chandler
  Unified Schools\, and provides vital scholarships to bright\, aspiring st
 udents throughout the district. \n\nGrand prize drawing is at 12:00pm on F
 riday\, March 8\, 2024. \n\nQuestions or concerns? Please email us info@ch
 andleredfoundation.org.
X-WR-RELCALID:0731412748166f0a883f9a6233549107
X-WR-TIMEZONE:America/Phoenix
BEGIN:VTIMEZONE
TZID:America/Phoenix
BEGIN:STANDARD
TZNAME:MST
DTSTART:20220509T070000
TZOFFSETFROM:+0000
TZOFFSETTO:-0700
END:STANDARD
END:VTIMEZONE
BEGIN:VEVENT
UID:116b7648-5b3b-48a9-853c-60ef60dadaa8
DTSTAMP:20260421T194148Z
DESCRIPTION:Get ready to start your engines with a $20 ticket that puts you
  in the driver's seat to win big – it's your call! Picture yourself cruisi
 ng in a brand-new car or pocketing $20\,000 in cash. The choice is yours!
 \n\nAs the grand prize winner\, you get to decide between a cool $20\,000 
 in cash or a whopping $27\,000 off the Manufacturer's Suggested Retail Pri
 ce (MSRP) on any Toyota vehicle! But that's not all – seize the chance to 
 snag multiple Early Bird prizes. Winners of the Early Bird prizes are also
  eligible to win the grand prize. \n\nIt's not just about winning\; it's a
 bout making a difference. Your ticket purchase fuels resources in Chandler
  Unified Schools\, and provides vital scholarships to bright\, aspiring st
 udents throughout the district. \n\nGrand prize drawing is at 12:00pm on F
 riday\, March 8\, 2024. \n\nQuestions or concerns? Please email us info@ch
 andleredfoundation.org.
DTSTART;TZID=America/Phoenix:20240208T040000
DTEND;TZID=America/Phoenix:20240208T040001
LOCATION:
SUMMARY:Winner's Choice Car OR Cash Raffle Early Bird Prize Drawing
END:VEVENT
END:VCALENDAR
