BEGIN:VCALENDAR
VERSION:2.0
PRODID:-//www.chandleredfoundation.org//NONSGML kigkonsult.se iCalcreator 2
 .30.10//
CALSCALE:GREGORIAN
METHOD:PUBLISH
UID:f9d69b61-8629-428b-b102-a3c13bd6b22f
X-WR-CALDESC:Get ready to start your engines with a $20 ticket that puts yo
 u in the driver's seat to win big – it's your call! Picture yourself cruis
 ing in a brand-new car or pocketing $20\,000 in cash. The choice is yours!
 \n\nAs the grand prize winner\, you get to decide between a cool $20\,000 
 in cash or a whopping $27\,000 off the Manufacturer's Suggested Retail Pri
 ce (MSRP) on any Toyota vehicle! \n\nIt's not just about winning\; it's ab
 out making a difference. Your ticket purchase fuels resources in Chandler 
 Unified Schools\, and provides vital scholarships to bright\, aspiring stu
 dents throughout the district. \n\nGrand prize drawing will be livestreame
 d from 11:30am to 12:30pm on Friday\, March 8\, 2024 with the drawing at 1
 2:00pm. \n\nQuestions or concerns? Please email us info@chandleredfoundati
 on.org.
X-WR-RELCALID:d92266a55a5b470ae4f3a8a7b3dff43f
X-WR-TIMEZONE:America/Phoenix
BEGIN:VTIMEZONE
TZID:America/Phoenix
BEGIN:STANDARD
TZNAME:MST
DTSTART:20220607T070000
TZOFFSETFROM:+0000
TZOFFSETTO:-0700
END:STANDARD
END:VTIMEZONE
BEGIN:VEVENT
UID:8d44b066-8638-4a22-a81f-40111c66d82f
DTSTAMP:20260421T173157Z
DESCRIPTION:Get ready to start your engines with a $20 ticket that puts you
  in the driver's seat to win big – it's your call! Picture yourself cruisi
 ng in a brand-new car or pocketing $20\,000 in cash. The choice is yours!
 \n\nAs the grand prize winner\, you get to decide between a cool $20\,000 
 in cash or a whopping $27\,000 off the Manufacturer's Suggested Retail Pri
 ce (MSRP) on any Toyota vehicle! \n\nIt's not just about winning\; it's ab
 out making a difference. Your ticket purchase fuels resources in Chandler 
 Unified Schools\, and provides vital scholarships to bright\, aspiring stu
 dents throughout the district. \n\nGrand prize drawing will be livestreame
 d from 11:30am to 12:30pm on Friday\, March 8\, 2024 with the drawing at 1
 2:00pm. \n\nQuestions or concerns? Please email us info@chandleredfoundati
 on.org.
DTSTART;TZID=America/Phoenix:20240308T113000
DTEND;TZID=America/Phoenix:20240308T123000
LOCATION:1851 E Queen Creek\, Gilbert\, AZ 85297 US
SUMMARY:Winner's Choice Car Or Cash Raffle Drawing
END:VEVENT
END:VCALENDAR
