BEGIN:VCALENDAR
VERSION:2.0
PRODID:-//www.chandleredfoundation.org//NONSGML kigkonsult.se iCalcreator 2
 .30.10//
CALSCALE:GREGORIAN
METHOD:PUBLISH
UID:09b7c612-deb6-4a2b-8d67-aee83097289d
X-WR-CALDESC:Chandler Unified schools will be on spring break during this t
 ime. The Chandler Education Foundation will have limited hours of availabi
 lity. We hope everyone enjoys the beautiful weather and some time to relax
  and refresh.
X-WR-RELCALID:c858584a520a1ef809ec2abbc08006f5
X-WR-TIMEZONE:America/Denver
BEGIN:VTIMEZONE
TZID:America/Denver
BEGIN:STANDARD
TZNAME:MST
DTSTART:20231105T020000
TZOFFSETFROM:-0600
TZOFFSETTO:-0700
RDATE:20241103T020000
END:STANDARD
BEGIN:DAYLIGHT
TZNAME:MDT
DTSTART:20230312T020000
TZOFFSETFROM:-0700
TZOFFSETTO:-0600
RDATE:20240310T020000
RDATE:20250309T020000
END:DAYLIGHT
END:VTIMEZONE
BEGIN:VEVENT
UID:c84615fe-1895-4cda-a1f7-e49cf25c8e59
DTSTAMP:20260421T173350Z
DESCRIPTION:Chandler Unified schools will be on spring break during this ti
 me. The Chandler Education Foundation will have limited hours of availabil
 ity. We hope everyone enjoys the beautiful weather and some time to relax 
 and refresh.
DTSTART;TZID=America/Denver:20240309T040000
DTEND;TZID=America/Denver:20240322T040001
LOCATION:Chandler Unified School Distrct
SUMMARY:Chandler Unified Spring Break
END:VEVENT
END:VCALENDAR
