BEGIN:VCALENDAR
VERSION:2.0
PRODID:-//www.chandleredfoundation.org//NONSGML kigkonsult.se iCalcreator 2
 .30.10//
CALSCALE:GREGORIAN
METHOD:PUBLISH
UID:243b4a73-4782-476f-9793-c5c688b61f53
X-WR-CALDESC:The Chandler Education Foundation office will be closed on Fri
 day\, March 29 in observance of the Chandler Unified School District Sprin
 g Holiday.
X-WR-RELCALID:cfbd09f6a568c05d49102f581d54fa81
X-WR-TIMEZONE:America/Denver
BEGIN:VTIMEZONE
TZID:America/Denver
BEGIN:STANDARD
TZNAME:MST
DTSTART:20231105T020000
TZOFFSETFROM:-0600
TZOFFSETTO:-0700
RDATE:20241103T020000
END:STANDARD
BEGIN:DAYLIGHT
TZNAME:MDT
DTSTART:20240310T020000
TZOFFSETFROM:-0700
TZOFFSETTO:-0600
RDATE:20250309T020000
END:DAYLIGHT
END:VTIMEZONE
BEGIN:VEVENT
UID:47d99df3-cfe0-4f1e-b10f-335806207a04
DTSTAMP:20260421T174409Z
DESCRIPTION:The Chandler Education Foundation office will be closed on Frid
 ay\, March 29 in observance of the Chandler Unified School District Spring
  Holiday.
DTSTART;TZID=America/Denver:20240329T040000
DTEND;TZID=America/Denver:20240329T040001
LOCATION:
SUMMARY:Spring Holiday
END:VEVENT
END:VCALENDAR
