BEGIN:VCALENDAR
VERSION:2.0
PRODID:-//www.chandleredfoundation.org//NONSGML kigkonsult.se iCalcreator 2
 .30.10//
CALSCALE:GREGORIAN
METHOD:PUBLISH
UID:323b9324-5eee-4d9c-9875-c5dd970497a5
X-WR-CALDESC:Seniors enrolled in the IMPACT Chandler Scholars program are e
 ncouraged to apply for the IMPACT scholarship. The deadline is Monday\, Ap
 ril 8 at midnight. Visit the IMPACT page via the link below for details an
 d access to the application platform.
X-WR-RELCALID:ab446fe9cc38dcf83a766de1befb5fdb
X-WR-TIMEZONE:America/Denver
BEGIN:VTIMEZONE
TZID:America/Denver
BEGIN:STANDARD
TZNAME:MST
DTSTART:20231105T020000
TZOFFSETFROM:-0600
TZOFFSETTO:-0700
RDATE:20241103T020000
END:STANDARD
BEGIN:DAYLIGHT
TZNAME:MDT
DTSTART:20240310T020000
TZOFFSETFROM:-0700
TZOFFSETTO:-0600
RDATE:20250309T020000
END:DAYLIGHT
END:VTIMEZONE
BEGIN:VEVENT
UID:c4b15699-1120-4304-babe-3b4925e90902
DTSTAMP:20260421T160429Z
DESCRIPTION:Seniors enrolled in the IMPACT Chandler Scholars program are en
 couraged to apply for the IMPACT scholarship. The deadline is Monday\, Apr
 il 8 at midnight. Visit the IMPACT page via the link below for details and
  access to the application platform.
DTSTART;TZID=America/Denver:20240408T040000
DTEND;TZID=America/Denver:20240408T040001
LOCATION:
SUMMARY:IMPACT Scholarship Deadline
END:VEVENT
END:VCALENDAR
