BEGIN:VCALENDAR
VERSION:2.0
PRODID:-//www.chandleredfoundation.org//NONSGML kigkonsult.se iCalcreator 2
 .30.10//
CALSCALE:GREGORIAN
METHOD:PUBLISH
UID:1b90216d-ee75-45f8-b6f0-5099f26fed27
X-WR-CALDESC:Join us in celebrating the incredible achievements of Perry Hi
 gh School's 2024 Chandler Education Foundation Scholarship recipients. \n
 \nThe event will include brief remarks from Principal Heather Patterson an
 d CEF Executive Director\, Jen Hewitt\, followed by the presentation of th
 e scholarship awards. Guests include scholarship recipients and up to two 
 family members\, scholarship donors\, CEF board members\, and Perry High S
 chool staff. \n\nLight breakfast will be provided by the Perry High Culina
 ry Department\, generously sponsored by Concord General Contracting.
X-WR-RELCALID:b6b1942a7686a51145abf0cb5c862c3c
X-WR-TIMEZONE:America/Denver
BEGIN:VTIMEZONE
TZID:America/Denver
BEGIN:STANDARD
TZNAME:MST
DTSTART:20231105T020000
TZOFFSETFROM:-0600
TZOFFSETTO:-0700
RDATE:20241103T020000
END:STANDARD
BEGIN:DAYLIGHT
TZNAME:MDT
DTSTART:20240310T020000
TZOFFSETFROM:-0700
TZOFFSETTO:-0600
RDATE:20250309T020000
END:DAYLIGHT
END:VTIMEZONE
BEGIN:VEVENT
UID:a69e0586-8057-4992-8973-d203d09bcac7
DTSTAMP:20260421T160035Z
DESCRIPTION:Join us in celebrating the incredible achievements of Perry Hig
 h School's 2024 Chandler Education Foundation Scholarship recipients. \n\n
 The event will include brief remarks from Principal Heather Patterson and 
 CEF Executive Director\, Jen Hewitt\, followed by the presentation of the 
 scholarship awards. Guests include scholarship recipients and up to two fa
 mily members\, scholarship donors\, CEF board members\, and Perry High Sch
 ool staff. \n\nLight breakfast will be provided by the Perry High Culinary
  Department\, generously sponsored by Concord General Contracting.
DTSTART;TZID=America/Denver:20240423T073000
DTEND;TZID=America/Denver:20240423T083000
LOCATION:1919 E Queen Creek Rd\, Perry High Auditorium Lobby\, Gilbert\, AZ
  85297 US
SUMMARY:Perry High Scholarship Celebration
END:VEVENT
END:VCALENDAR
