BEGIN:VCALENDAR
VERSION:2.0
PRODID:-//www.chandleredfoundation.org//NONSGML kigkonsult.se iCalcreator 2
 .30.10//
CALSCALE:GREGORIAN
METHOD:PUBLISH
UID:8a35fb84-6646-403e-83f3-48d6a3c8cf90
X-WR-CALDESC:Join us in celebrating the incredible achievements of Casteel 
 High School's 2024 Chandler Education Foundation Scholarship recipients. 
 \n\nThe event will include brief remarks from Principal Jayson Phillips an
 d CEF Executive Director\, Jen Hewitt\, followed by the presentation of th
 e scholarship awards. Guests include scholarship recipients and up to two 
 family members\, scholarship donors\, CEF board members\, and Casteel High
  School staff. \n\nLight breakfast will be provided by the Casteel High Cu
 linary Department\, generously sponsored by Leo and Patti Schlueter and Me
 teor Education.
X-WR-RELCALID:1fca25ae00d5285e8674fe8dfba3ecf4
X-WR-TIMEZONE:America/Denver
BEGIN:VTIMEZONE
TZID:America/Denver
BEGIN:STANDARD
TZNAME:MST
DTSTART:20231105T020000
TZOFFSETFROM:-0600
TZOFFSETTO:-0700
RDATE:20241103T020000
END:STANDARD
BEGIN:DAYLIGHT
TZNAME:MDT
DTSTART:20240310T020000
TZOFFSETFROM:-0700
TZOFFSETTO:-0600
RDATE:20250309T020000
END:DAYLIGHT
END:VTIMEZONE
BEGIN:VEVENT
UID:cc6e34dd-9e8f-4cad-b976-46a44357f9a0
DTSTAMP:20260421T160127Z
DESCRIPTION:Join us in celebrating the incredible achievements of Casteel H
 igh School's 2024 Chandler Education Foundation Scholarship recipients. \n
 \nThe event will include brief remarks from Principal Jayson Phillips and 
 CEF Executive Director\, Jen Hewitt\, followed by the presentation of the 
 scholarship awards. Guests include scholarship recipients and up to two fa
 mily members\, scholarship donors\, CEF board members\, and Casteel High S
 chool staff. \n\nLight breakfast will be provided by the Casteel High Culi
 nary Department\, generously sponsored by Leo and Patti Schlueter and Mete
 or Education.
DTSTART;TZID=America/Denver:20240424T070000
DTEND;TZID=America/Denver:20240424T080000
LOCATION:24901 S Power Rd\, Casteel High Library\, Queen Creek\, AZ 85142 U
 S
SUMMARY:Casteel High Scholarship Celebration
END:VEVENT
END:VCALENDAR
