BEGIN:VCALENDAR
VERSION:2.0
PRODID:-//www.chandleredfoundation.org//NONSGML kigkonsult.se iCalcreator 2
 .30.10//
CALSCALE:GREGORIAN
METHOD:PUBLISH
UID:7e5d8ba8-1602-418b-819c-7f4dcc175f6b
X-WR-CALDESC:Join us in celebrating the incredible achievements of Basha Hi
 gh School's 2024 Chandler Education Foundation Scholarship recipients. \n
 \nThe event will be held in the Basha High Cafeteria and will include brie
 f remarks from Principal Marques Reischl and CEF Executive Director\, Jen 
 Hewitt\, followed by the presentation of the scholarship awards. Guests in
 clude scholarship recipients and up to two family members\, scholarship do
 nors\, CEF board members\, and Basha High School staff. \n\nLight breakfas
 t will be provided by the Basha High Culinary Department\, generously spon
 sored by First Bank.
X-WR-RELCALID:885050602033394ba37043e4079ea4e7
X-WR-TIMEZONE:America/Denver
BEGIN:VTIMEZONE
TZID:America/Denver
BEGIN:STANDARD
TZNAME:MST
DTSTART:20231105T020000
TZOFFSETFROM:-0600
TZOFFSETTO:-0700
RDATE:20241103T020000
END:STANDARD
BEGIN:DAYLIGHT
TZNAME:MDT
DTSTART:20240310T020000
TZOFFSETFROM:-0700
TZOFFSETTO:-0600
RDATE:20250309T020000
END:DAYLIGHT
END:VTIMEZONE
BEGIN:VEVENT
UID:01a164cc-3c30-4af6-ad72-561d5571f2e9
DTSTAMP:20260421T160101Z
DESCRIPTION:Join us in celebrating the incredible achievements of Basha Hig
 h School's 2024 Chandler Education Foundation Scholarship recipients. \n\n
 The event will be held in the Basha High Cafeteria and will include brief 
 remarks from Principal Marques Reischl and CEF Executive Director\, Jen He
 witt\, followed by the presentation of the scholarship awards. Guests incl
 ude scholarship recipients and up to two family members\, scholarship dono
 rs\, CEF board members\, and Basha High School staff. \n\nLight breakfast 
 will be provided by the Basha High Culinary Department\, generously sponso
 red by First Bank.
DTSTART;TZID=America/Denver:20240425T070000
DTEND;TZID=America/Denver:20240425T080000
LOCATION:5990 S. Val Vista Dr. \, Basha High Cafeteria\, Chandler\, AZ 8524
 9 US
SUMMARY:Basha High Scholarship Celebration
END:VEVENT
END:VCALENDAR
