BEGIN:VCALENDAR
VERSION:2.0
PRODID:-//www.chandleredfoundation.org//NONSGML kigkonsult.se iCalcreator 2
 .30.10//
CALSCALE:GREGORIAN
METHOD:PUBLISH
UID:4667a53d-d0a7-47d0-9a35-8aa2e3a14eac
X-WR-CALDESC:Join us in celebrating the incredible achievements of Hamilton
  High School's 2024 Chandler Education Foundation Scholarship recipients. 
 \n\nThe event will include brief remarks from Principal Mike De La Torre a
 nd CEF Executive Director\, Jen Hewitt\, followed by the presentation of t
 he scholarship awards. Guests include recipients and up to two family memb
 ers\, scholarship donors\, CEF board members\, and Hamilton High School st
 aff. \n\nLight breakfast will be provided by the Hamilton High Culinary De
 partment\, generously sponsored by Meteor Education and Rosati's Pizza.
X-WR-RELCALID:de6ec29523ce0d958aa9facaca975f65
X-WR-TIMEZONE:America/Denver
BEGIN:VTIMEZONE
TZID:America/Denver
BEGIN:STANDARD
TZNAME:MST
DTSTART:20231105T020000
TZOFFSETFROM:-0600
TZOFFSETTO:-0700
RDATE:20241103T020000
END:STANDARD
BEGIN:DAYLIGHT
TZNAME:MDT
DTSTART:20240310T020000
TZOFFSETFROM:-0700
TZOFFSETTO:-0600
RDATE:20250309T020000
END:DAYLIGHT
END:VTIMEZONE
BEGIN:VEVENT
UID:be609e03-454f-4d5f-b300-c75633b2ca53
DTSTAMP:20260421T160422Z
DESCRIPTION:Join us in celebrating the incredible achievements of Hamilton 
 High School's 2024 Chandler Education Foundation Scholarship recipients. 
 \n\nThe event will include brief remarks from Principal Mike De La Torre a
 nd CEF Executive Director\, Jen Hewitt\, followed by the presentation of t
 he scholarship awards. Guests include recipients and up to two family memb
 ers\, scholarship donors\, CEF board members\, and Hamilton High School st
 aff. \n\nLight breakfast will be provided by the Hamilton High Culinary De
 partment\, generously sponsored by Meteor Education and Rosati's Pizza.
DTSTART;TZID=America/Denver:20240426T073000
DTEND;TZID=America/Denver:20240426T083000
LOCATION:3700 S. Arizona Avenue\, Chandler\, AZ 85248 US
SUMMARY:Hamilton High Scholarship Celebration
END:VEVENT
END:VCALENDAR
