BEGIN:VCALENDAR
VERSION:2.0
PRODID:-//www.chandleredfoundation.org//NONSGML kigkonsult.se iCalcreator 2
 .30.10//
CALSCALE:GREGORIAN
METHOD:PUBLISH
UID:e494dd54-3456-42d8-8d83-8d5e0d3fcc7f
X-WR-CALDESC:Join us in celebrating the incredible achievements of ACP High
  School's 2024 Chandler Education Foundation Scholarship recipients. \n\nT
 he event will include brief remarks from Principal Rob Bickes and CEF Exec
 utive Director\, Jen Hewitt\, followed by the presentation of the scholars
 hip awards. Guests include recipients and up to two family members\, schol
 arship donors\, CEF board members\, and ACP High School staff. \n\nLight b
 reakfast will be provided by the ACP High Culinary Department\, generously
  sponsored by J2 Media.
X-WR-RELCALID:831e6dfe22383eb2c9c2bd64aecf7121
X-WR-TIMEZONE:America/Denver
BEGIN:VTIMEZONE
TZID:America/Denver
BEGIN:STANDARD
TZNAME:MST
DTSTART:20231105T020000
TZOFFSETFROM:-0600
TZOFFSETTO:-0700
RDATE:20241103T020000
END:STANDARD
BEGIN:DAYLIGHT
TZNAME:MDT
DTSTART:20240310T020000
TZOFFSETFROM:-0700
TZOFFSETTO:-0600
RDATE:20250309T020000
END:DAYLIGHT
END:VTIMEZONE
BEGIN:VEVENT
UID:d69aac75-5562-442b-b642-cc2ce42524c0
DTSTAMP:20260421T160625Z
DESCRIPTION:Join us in celebrating the incredible achievements of ACP High 
 School's 2024 Chandler Education Foundation Scholarship recipients. \n\nTh
 e event will include brief remarks from Principal Rob Bickes and CEF Execu
 tive Director\, Jen Hewitt\, followed by the presentation of the scholarsh
 ip awards. Guests include recipients and up to two family members\, schola
 rship donors\, CEF board members\, and ACP High School staff. \n\nLight br
 eakfast will be provided by the ACP High Culinary Department\, generously 
 sponsored by J2 Media.
DTSTART;TZID=America/Denver:20240430T073000
DTEND;TZID=America/Denver:20240430T083000
LOCATION:4477 S. Gilbert Rd. \, ACP High Career Center\, Chandler\, AZ 8524
 9 US
SUMMARY:ACP High Scholarship Celebration
END:VEVENT
END:VCALENDAR
