BEGIN:VCALENDAR
VERSION:2.0
PRODID:-//www.chandleredfoundation.org//NONSGML kigkonsult.se iCalcreator 2
 .30.10//
CALSCALE:GREGORIAN
METHOD:PUBLISH
UID:ee4fec96-ede8-4132-a450-8dabb198aa00
X-WR-CALDESC:The Chandler Education Foundation office will be closed on Mon
 day\, May 27 in observance of Memorial Day.
X-WR-RELCALID:7ee942326af006ddbc9d04711994ad97
X-WR-TIMEZONE:America/Denver
BEGIN:VTIMEZONE
TZID:America/Denver
BEGIN:STANDARD
TZNAME:MST
DTSTART:20231105T020000
TZOFFSETFROM:-0600
TZOFFSETTO:-0700
RDATE:20241103T020000
RDATE:20251102T020000
END:STANDARD
BEGIN:DAYLIGHT
TZNAME:MDT
DTSTART:20240310T020000
TZOFFSETFROM:-0700
TZOFFSETTO:-0600
RDATE:20250309T020000
END:DAYLIGHT
END:VTIMEZONE
BEGIN:VEVENT
UID:68cc6841-eb91-4690-bde0-f64b43ff8b9a
DTSTAMP:20260420T173608Z
DESCRIPTION:The Chandler Education Foundation office will be closed on Mond
 ay\, May 27 in observance of Memorial Day.
DTSTART;TZID=America/Denver:20240527T040000
DTEND;TZID=America/Denver:20240527T040001
LOCATION:
SUMMARY:Memorial Day
END:VEVENT
END:VCALENDAR
