BEGIN:VCALENDAR
VERSION:2.0
PRODID:-//www.chandleredfoundation.org//NONSGML kigkonsult.se iCalcreator 2
 .30.10//
CALSCALE:GREGORIAN
METHOD:PUBLISH
UID:3a03b90f-4c08-4ab7-a83b-1ed0a8914b48
X-WR-CALDESC:Each year\, the CEF 'Woohoo Patrol' makes surprise visits to c
 lassrooms of Cash for Classrooms grant award winners announcing their priz
 es. These teacher-requested grants support everything from STEM equipment 
 to special needs resources to special experiences and field trips for Chan
 dler Unified students. The grants are funded through the annual Cash for C
 lassrooms fundraiser. Be sure to follow us on social media (links in foote
 r) to see photos of teachers receiving their awards and the grants in acti
 on in classrooms across the district!
X-WR-RELCALID:65d1adc27a903fcf9fae1980abbea70f
X-WR-TIMEZONE:America/Denver
BEGIN:VTIMEZONE
TZID:America/Denver
BEGIN:STANDARD
TZNAME:MST
DTSTART:20231105T020000
TZOFFSETFROM:-0600
TZOFFSETTO:-0700
RDATE:20241103T020000
RDATE:20251102T020000
END:STANDARD
BEGIN:DAYLIGHT
TZNAME:MDT
DTSTART:20240310T020000
TZOFFSETFROM:-0700
TZOFFSETTO:-0600
RDATE:20250309T020000
RDATE:20260308T020000
END:DAYLIGHT
END:VTIMEZONE
BEGIN:VEVENT
UID:3dc67931-9e5f-4f3d-99b5-33d80f87deae
DTSTAMP:20260420T230546Z
DESCRIPTION:Each year\, the CEF 'Woohoo Patrol' makes surprise visits to cl
 assrooms of Cash for Classrooms grant award winners announcing their prize
 s. These teacher-requested grants support everything from STEM equipment t
 o special needs resources to special experiences and field trips for Chand
 ler Unified students. The grants are funded through the annual Cash for Cl
 assrooms fundraiser. Be sure to follow us on social media (links in footer
 ) to see photos of teachers receiving their awards and the grants in actio
 n in classrooms across the district!
DTSTART;TZID=America/Denver:20241011T070000
DTEND;TZID=America/Denver:20241018T150000
LOCATION:
SUMMARY:Woohoo Patrol!
END:VEVENT
END:VCALENDAR
