BEGIN:VCALENDAR
VERSION:2.0
PRODID:-//www.chandleredfoundation.org//NONSGML kigkonsult.se iCalcreator 2
 .30.10//
CALSCALE:GREGORIAN
METHOD:PUBLISH
UID:83a26312-36e4-40c0-8d53-f2b459ea2e17
X-WR-CALDESC:The Chandler Education Foundation scholarship application plat
 form will officially open on January 6 and close on March 24\, 2025 at 6:0
 0pm.
X-WR-RELCALID:abc0764b1520b36bfabad98fc76cc77b
X-WR-TIMEZONE:America/Denver
BEGIN:VTIMEZONE
TZID:America/Denver
BEGIN:STANDARD
TZNAME:MST
DTSTART:20241103T020000
TZOFFSETFROM:-0600
TZOFFSETTO:-0700
RDATE:20251102T020000
END:STANDARD
BEGIN:DAYLIGHT
TZNAME:MDT
DTSTART:20240310T020000
TZOFFSETFROM:-0700
TZOFFSETTO:-0600
RDATE:20250309T020000
RDATE:20260308T020000
END:DAYLIGHT
END:VTIMEZONE
BEGIN:VEVENT
UID:31508d26-5493-4089-b643-f3cbf1826bd3
DTSTAMP:20260419T194144Z
DESCRIPTION:The Chandler Education Foundation scholarship application platf
 orm will officially open on January 6 and close on March 24\, 2025 at 6:00
 pm.
DTSTART;TZID=America/Denver:20250106T040000
DTEND;TZID=America/Denver:20250324T040001
LOCATION:
SUMMARY:Scholarship Applications Open
END:VEVENT
END:VCALENDAR
