BEGIN:VCALENDAR
VERSION:2.0
PRODID:-//www.chandleredfoundation.org//NONSGML kigkonsult.se iCalcreator 2
 .30.10//
CALSCALE:GREGORIAN
METHOD:PUBLISH
UID:05c9fec3-b273-4038-b27b-351c8033bc12
X-WR-CALDESC:The Chandler Education Foundation office will be closed in obs
 ervance of Martin Luther King Junior Day.
X-WR-RELCALID:f30976519be7fdf7f21f21e6560035c2
X-WR-TIMEZONE:America/Denver
BEGIN:VTIMEZONE
TZID:America/Denver
BEGIN:STANDARD
TZNAME:MST
DTSTART:20241103T020000
TZOFFSETFROM:-0600
TZOFFSETTO:-0700
RDATE:20251102T020000
END:STANDARD
BEGIN:DAYLIGHT
TZNAME:MDT
DTSTART:20240310T020000
TZOFFSETFROM:-0700
TZOFFSETTO:-0600
RDATE:20250309T020000
RDATE:20260308T020000
END:DAYLIGHT
END:VTIMEZONE
BEGIN:VEVENT
UID:adfbe6e5-1faa-4a27-bb70-9d5914cb0019
DTSTAMP:20260419T215617Z
DESCRIPTION:The Chandler Education Foundation office will be closed in obse
 rvance of Martin Luther King Junior Day.
DTSTART;TZID=America/Denver:20250120T040000
DTEND;TZID=America/Denver:20250120T040001
LOCATION:
SUMMARY:Office Closed for Martin Luther King Jr Day
END:VEVENT
END:VCALENDAR
