BEGIN:VCALENDAR
VERSION:2.0
PRODID:-//www.chandleredfoundation.org//NONSGML kigkonsult.se iCalcreator 2
 .30.10//
CALSCALE:GREGORIAN
METHOD:PUBLISH
UID:039178c3-bbd9-499b-8bcf-a346d47b9810
X-WR-CALDESC:Join us in the Basha High cafeteria to celebrate the incredibl
 e achievements of Basha High School's Chandler Education Foundation schola
 rship recipients.\n\nThe event will include brief remarks from Principal M
 arques Reischl and CEF Executive Director\, Jen Hewitt\, followed by the p
 resentation of the scholarship awards. Guests include scholarship recipien
 ts and up to two family members\, scholarship donors\, CEF board members\,
  and Basha High School staff.\n\nLight breakfast provided. \n\nSpecial tha
 nks to our generous sponsors!
X-WR-RELCALID:22b39cbec12139da565a5a718f79cad5
X-WR-TIMEZONE:America/Denver
BEGIN:VTIMEZONE
TZID:America/Denver
BEGIN:STANDARD
TZNAME:MST
DTSTART:20241103T020000
TZOFFSETFROM:-0600
TZOFFSETTO:-0700
RDATE:20251102T020000
RDATE:20261101T020000
END:STANDARD
BEGIN:DAYLIGHT
TZNAME:MDT
DTSTART:20250309T020000
TZOFFSETFROM:-0700
TZOFFSETTO:-0600
RDATE:20260308T020000
END:DAYLIGHT
END:VTIMEZONE
BEGIN:VEVENT
UID:a08f5abc-bc82-48c8-a477-bd55573cd20b
DTSTAMP:20260420T072010Z
DESCRIPTION:Join us in the Basha High cafeteria to celebrate the incredible
  achievements of Basha High School's Chandler Education Foundation scholar
 ship recipients.\n\nThe event will include brief remarks from Principal Ma
 rques Reischl and CEF Executive Director\, Jen Hewitt\, followed by the pr
 esentation of the scholarship awards. Guests include scholarship recipient
 s and up to two family members\, scholarship donors\, CEF board members\, 
 and Basha High School staff.\n\nLight breakfast provided. \n\nSpecial than
 ks to our generous sponsors!
DTSTART;TZID=America/Denver:20250502T070000
DTEND;TZID=America/Denver:20250502T080000
LOCATION:Basha High School\, 5990 S Val Vista Dr\, Cafeteria\, Chandler\, A
 Z 85249 US
SUMMARY:Basha High School Scholarship Celebration
END:VEVENT
END:VCALENDAR
